BEGIN:VCALENDAR
VERSION:2.0
PRODID:-//eventon.com NONSGML v1.0//EN
CALSCALE:GREGORIAN
METHOD:PUBLISH
BEGIN:VEVENT
UID:69e7b50dab37d
DTSTAMP:20260421T173405Z
DTSTART:20260620T140000Z
DTEND:20260620T154500Z
LOCATION:
SUMMARY:Breakfast with the Giraffe & World Giraffe Day
DESCRIPTION:As we celebrate the longest day of the year on World Giraffe Da
 y\,  enjoy a tall order of breakfast then go on a tour to meet our tall boy
  Kenya at the Giraffe barn. Find out how zookeepers care for this endangere
 d species as we work to save the world&#8217;s[..]\nhttps://www.niabizoo.co
 m/events/breakfast-with-the-giraffes/
URL:https://www.niabizoo.com/events/breakfast-with-the-giraffes/
END:VEVENT
END:VCALENDAR