BEGIN:VCALENDAR
VERSION:2.0
PRODID:-//eventon.com NONSGML v1.0//EN
CALSCALE:GREGORIAN
METHOD:PUBLISH
BEGIN:VEVENT
UID:69e7b793b7c06
DTSTAMP:20260421T174451Z
DTSTART:20260718T140000Z
DTEND:20260718T153000Z
LOCATION:
SUMMARY:Sloth Day & Breakfast with the Sloth
DESCRIPTION:Slow down\,  relax and come hang with us at our Breakfast with 
 the Sloth! Sloths depend on the trees in the tropical rainforests of South 
 and Central America as they mozy and much on leaves. We promise to feed you
  more than leaves for breakfast. Don’t leave us hanging and[..]\nhttps://
 www.niabizoo.com/events/breakfast-with-the-sloth/
URL:https://www.niabizoo.com/events/breakfast-with-the-sloth/
END:VEVENT
END:VCALENDAR