BEGIN:VCALENDAR
VERSION:2.0
PRODID:-//eventon.com NONSGML v1.0//EN
CALSCALE:GREGORIAN
METHOD:PUBLISH
BEGIN:VEVENT
UID:69eb2dcecddac
DTSTAMP:20260424T084606Z
DTSTART:20260422T230000Z
DTEND:20260423T013000Z
LOCATION:
SUMMARY:Drink & Design - Whale Shark
DESCRIPTION:Let&#8217;s paint a whale shark! Gather your friends (age 21 an
 d over) or come and make friends to enjoy your favorite beverage while lear
 ning about endangered Whale Sharks and how to paint them during this specia
 l Drink &amp; Design. All skill levels are welcome! You don&#8217;t have to
  be an[..]\nhttps://www.niabizoo.com/events/drink-design-whale-shark/
URL:https://www.niabizoo.com/events/drink-design-whale-shark/
END:VEVENT
END:VCALENDAR