BEGIN:VCALENDAR
VERSION:2.0
PRODID:-//eventon.com NONSGML v1.0//EN
CALSCALE:GREGORIAN
METHOD:PUBLISH
BEGIN:VEVENT
UID:69e8a00daaad2
DTSTAMP:20260422T101645Z
DTSTART:20260511T000000Z
DTEND:20260511T004500Z
LOCATION:
SUMMARY:Conservation Speaker - Debbie Clemens
DESCRIPTION:Conservation Speaker: We are excited to welcome the return of c
 onservation biologist Debbie Clemens from Orangutan Outreach. Debbie is ded
 icated to the conservation of wild orangutans in Borneo and Sumatra and rai
 sing awareness about the Palm Oil Crisis that is devastating all forest spe
 cies\,  including Gibbons. Title: The 5 R&#8217;s of[..]\nhttps://www.niab
 izoo.com/events/revisionconservation-speaker-debbie-clemens/
URL:https://www.niabizoo.com/events/revisionconservation-speaker-debbie-clemens/
END:VEVENT
END:VCALENDAR